BEGIN:VCALENDAR
VERSION:2.0
PRODID:icalendar-ruby
CALSCALE:GREGORIAN
METHOD:PUBLISH
BEGIN:VEVENT
DTSTAMP:20260421T104019Z
UID:5-400981@dreammovement.tithelysetup8.com
DTSTART:20260823T170000Z
DTEND:20260823T180000Z
CLASS:PUBLIC
CREATED:20260420T171152
DESCRIPTION:Sunday Worship
LAST-MODIFIED:20260420T171152
LOCATION:
SUMMARY:Sunday Worship
URL;VALUE=URI:https://dreammovement.tithelysetup8.com/events/sunday-worship
 /2026-08-23
END:VEVENT
END:VCALENDAR
