BEGIN:VCALENDAR
VERSION:2.0
PRODID:icalendar-ruby
CALSCALE:GREGORIAN
METHOD:PUBLISH
BEGIN:VEVENT
DTSTAMP:20260421T191329Z
UID:5-402030@dreammovement.tithelysetup8.com
DTSTART:20260927T170000Z
DTEND:20260927T180000Z
CLASS:PUBLIC
CREATED:20260421T120940
DESCRIPTION:Sunday Worship
LAST-MODIFIED:20260421T120940
LOCATION:
SUMMARY:Sunday Worship
URL;VALUE=URI:https://dreammovement.tithelysetup8.com/events/sunday-worship
 /2026-09-27
END:VEVENT
END:VCALENDAR
