BEGIN:VCALENDAR
VERSION:2.0
PRODID:icalendar-ruby
CALSCALE:GREGORIAN
METHOD:PUBLISH
BEGIN:VEVENT
DTSTAMP:20260422T001001Z
UID:5-402294@dreammovement.tithelysetup8.com
DTSTART:20261018T170000Z
DTEND:20261018T180000Z
CLASS:PUBLIC
CREATED:20260421T144646
DESCRIPTION:Sunday Worship
LAST-MODIFIED:20260421T144646
LOCATION:
SUMMARY:Sunday Worship
URL;VALUE=URI:https://dreammovement.tithelysetup8.com/events/sunday-worship
 /2026-10-18
END:VEVENT
END:VCALENDAR
