BEGIN:VCALENDAR
VERSION:2.0
PRODID:icalendar-ruby
CALSCALE:GREGORIAN
METHOD:PUBLISH
BEGIN:VEVENT
DTSTAMP:20260422T013621Z
UID:5-402556@dreammovement.tithelysetup8.com
DTSTART:20261025T170000Z
DTEND:20261025T180000Z
CLASS:PUBLIC
CREATED:20260421T172532
DESCRIPTION:Sunday Worship
LAST-MODIFIED:20260421T172532
LOCATION:
SUMMARY:Sunday Worship
URL;VALUE=URI:https://dreammovement.tithelysetup8.com/events/sunday-worship
 /2026-10-25
END:VEVENT
END:VCALENDAR
